BEGIN:VCALENDAR
VERSION:2.0
PRODID:-//gfi herne e.V. - ECPv6.15.20//NONSGML v1.0//EN
CALSCALE:GREGORIAN
METHOD:PUBLISH
X-WR-CALNAME:gfi herne e.V.
X-ORIGINAL-URL:https://www.gfi-herne.de
X-WR-CALDESC:Veranstaltungen für gfi herne e.V.
REFRESH-INTERVAL;VALUE=DURATION:PT1H
X-Robots-Tag:noindex
X-PUBLISHED-TTL:PT1H
BEGIN:VTIMEZONE
TZID:Europe/Berlin
BEGIN:DAYLIGHT
TZOFFSETFROM:+0100
TZOFFSETTO:+0200
TZNAME:CEST
DTSTART:20240331T010000
END:DAYLIGHT
BEGIN:STANDARD
TZOFFSETFROM:+0200
TZOFFSETTO:+0100
TZNAME:CET
DTSTART:20241027T010000
END:STANDARD
BEGIN:DAYLIGHT
TZOFFSETFROM:+0100
TZOFFSETTO:+0200
TZNAME:CEST
DTSTART:20250330T010000
END:DAYLIGHT
BEGIN:STANDARD
TZOFFSETFROM:+0200
TZOFFSETTO:+0100
TZNAME:CET
DTSTART:20251026T010000
END:STANDARD
BEGIN:DAYLIGHT
TZOFFSETFROM:+0100
TZOFFSETTO:+0200
TZNAME:CEST
DTSTART:20260329T010000
END:DAYLIGHT
BEGIN:STANDARD
TZOFFSETFROM:+0200
TZOFFSETTO:+0100
TZNAME:CET
DTSTART:20261025T010000
END:STANDARD
END:VTIMEZONE
BEGIN:VEVENT
DTSTART;TZID=Europe/Berlin:20250516T140000
DTEND;TZID=Europe/Berlin:20250516T170000
DTSTAMP:20260423T135358
CREATED:20250325T143829Z
LAST-MODIFIED:20250325T144151Z
UID:1460-1747404000-1747414800@www.gfi-herne.de
SUMMARY:Nachbarschaftsfest
DESCRIPTION:Wir laden alle Nachbarinnen und Nachbarn zu einem gemütlichen Fest in die gfi-gartenOase ein. Euch erwarten Pflanz- und Upcyclingaktionen\, Kulinarisches aus dem Garten und Gespräche mit netten Menschen.
URL:https://www.gfi-herne.de/event/nachbarschaftsfest/
LOCATION:dasO – Ort der Kulturen\, Overwegstraße 32 (Eingang über den Schulhof)\, Herne\, 44625\, Deutschland
ATTACH;FMTTYPE=image/jpeg:https://www.gfi-herne.de/wp-content/uploads/2025/03/gartenoase.jpeg
END:VEVENT
END:VCALENDAR