BEGIN:VCALENDAR
VERSION:2.0
PRODID:-//gfi herne e.V. - ECPv6.15.20//NONSGML v1.0//EN
CALSCALE:GREGORIAN
METHOD:PUBLISH
X-WR-CALNAME:gfi herne e.V.
X-ORIGINAL-URL:https://www.gfi-herne.de
X-WR-CALDESC:Veranstaltungen für gfi herne e.V.
REFRESH-INTERVAL;VALUE=DURATION:PT1H
X-Robots-Tag:noindex
X-PUBLISHED-TTL:PT1H
BEGIN:VTIMEZONE
TZID:Europe/Berlin
BEGIN:DAYLIGHT
TZOFFSETFROM:+0100
TZOFFSETTO:+0200
TZNAME:CEST
DTSTART:20230326T010000
END:DAYLIGHT
BEGIN:STANDARD
TZOFFSETFROM:+0200
TZOFFSETTO:+0100
TZNAME:CET
DTSTART:20231029T010000
END:STANDARD
BEGIN:DAYLIGHT
TZOFFSETFROM:+0100
TZOFFSETTO:+0200
TZNAME:CEST
DTSTART:20240331T010000
END:DAYLIGHT
BEGIN:STANDARD
TZOFFSETFROM:+0200
TZOFFSETTO:+0100
TZNAME:CET
DTSTART:20241027T010000
END:STANDARD
BEGIN:DAYLIGHT
TZOFFSETFROM:+0100
TZOFFSETTO:+0200
TZNAME:CEST
DTSTART:20250330T010000
END:DAYLIGHT
BEGIN:STANDARD
TZOFFSETFROM:+0200
TZOFFSETTO:+0100
TZNAME:CET
DTSTART:20251026T010000
END:STANDARD
END:VTIMEZONE
BEGIN:VEVENT
DTSTART;TZID=Europe/Berlin:20240918T100000
DTEND;TZID=Europe/Berlin:20240918T120000
DTSTAMP:20260425T181904
CREATED:20240902T080005Z
LAST-MODIFIED:20240902T080005Z
UID:1420-1726653600-1726660800@www.gfi-herne.de
SUMMARY:gfi-Frauentreff
DESCRIPTION:Unsere Jamila lädt wieder zum Frauentreff ein. Zu Gast ist dieses Mal Pippa Goch vom Fachbereich Integration – KI der Stadt Herne. Frau Goch ist unter anderem  für Frauenangebote zuständig.\nKommt gerne vorbei. Die Teilnahme ist kostenfrei und eine Anmeldung nicht notwendig.
URL:https://www.gfi-herne.de/event/gfi-frauentreff-4/
LOCATION:dasO – Ort der Kulturen\, Overwegstraße 32 (Eingang über den Schulhof)\, Herne\, 44625\, Deutschland
ATTACH;FMTTYPE=image/jpeg:https://www.gfi-herne.de/wp-content/uploads/2024/09/Pippa-Goch.jpg
END:VEVENT
END:VCALENDAR